BEGIN:VCALENDAR
VERSION:2.0
PRODID:-//Blue Lotus Inspirations - ECPv6.15.20//NONSGML v1.0//EN
CALSCALE:GREGORIAN
METHOD:PUBLISH
X-ORIGINAL-URL:https://bluelotusinspirations.co.uk
X-WR-CALDESC:Events for Blue Lotus Inspirations
REFRESH-INTERVAL;VALUE=DURATION:PT1H
X-Robots-Tag:noindex
X-PUBLISHED-TTL:PT1H
BEGIN:VTIMEZONE
TZID:UTC
BEGIN:STANDARD
TZOFFSETFROM:+0000
TZOFFSETTO:+0000
TZNAME:UTC
DTSTART:20160101T000000
END:STANDARD
END:VTIMEZONE
BEGIN:VEVENT
DTSTART;TZID=UTC:20180512T100000
DTEND;TZID=UTC:20180512T120000
DTSTAMP:20260420T021959
CREATED:20180316T151802Z
LAST-MODIFIED:20180316T152031Z
UID:879-1526119200-1526126400@bluelotusinspirations.co.uk
SUMMARY:Duke of Edinburgh - Cooking
DESCRIPTION:
URL:https://bluelotusinspirations.co.uk/event/duke-edinburgh-cooking-9/
LOCATION:Moscow Road\, London\, W2 4SW\, United Kingdom
CATEGORIES:Cookery Classes
ORGANIZER;CN="Blue Lotus Inspirations":MAILTO:bluelotusinspirations@gmail.com
END:VEVENT
BEGIN:VEVENT
DTSTART;TZID=UTC:20180506T100000
DTEND;TZID=UTC:20180506T130000
DTSTAMP:20260420T021959
CREATED:20180316T152719Z
LAST-MODIFIED:20180316T152719Z
UID:897-1525600800-1525611600@bluelotusinspirations.co.uk
SUMMARY:The Art of Thai Cooking Class
DESCRIPTION:
URL:https://bluelotusinspirations.co.uk/event/art-thai-cooking-class-7/
LOCATION:Moscow Road\, London\, W2 4SW\, United Kingdom
CATEGORIES:Cookery Classes
ORGANIZER;CN="Blue Lotus Inspirations":MAILTO:bluelotusinspirations@gmail.com
END:VEVENT
BEGIN:VEVENT
DTSTART;TZID=UTC:20180505T100000
DTEND;TZID=UTC:20180505T120000
DTSTAMP:20260420T021959
CREATED:20180316T151731Z
LAST-MODIFIED:20180316T152042Z
UID:877-1525514400-1525521600@bluelotusinspirations.co.uk
SUMMARY:Duke of Edinburgh - Cooking
DESCRIPTION:
URL:https://bluelotusinspirations.co.uk/event/duke-edinburgh-cooking-8/
LOCATION:Moscow Road\, London\, W2 4SW\, United Kingdom
CATEGORIES:Cookery Classes
ORGANIZER;CN="Blue Lotus Inspirations":MAILTO:bluelotusinspirations@gmail.com
END:VEVENT
BEGIN:VEVENT
DTSTART;TZID=UTC:20180429T100000
DTEND;TZID=UTC:20180429T130000
DTSTAMP:20260420T021959
CREATED:20180316T152645Z
LAST-MODIFIED:20180316T152645Z
UID:895-1524996000-1525006800@bluelotusinspirations.co.uk
SUMMARY:The Art of Thai Cooking Class
DESCRIPTION:
URL:https://bluelotusinspirations.co.uk/event/art-thai-cooking-class-6/
LOCATION:Moscow Road\, London\, W2 4SW\, United Kingdom
CATEGORIES:Cookery Classes
ORGANIZER;CN="Blue Lotus Inspirations":MAILTO:bluelotusinspirations@gmail.com
END:VEVENT
BEGIN:VEVENT
DTSTART;TZID=UTC:20180428T100000
DTEND;TZID=UTC:20180428T120000
DTSTAMP:20260420T021959
CREATED:20180316T151654Z
LAST-MODIFIED:20180316T152055Z
UID:875-1524909600-1524916800@bluelotusinspirations.co.uk
SUMMARY:Duke of Edinburgh - Cooking
DESCRIPTION:
URL:https://bluelotusinspirations.co.uk/event/duke-edinburgh-cooking-7/
LOCATION:Moscow Road\, London\, W2 4SW\, United Kingdom
CATEGORIES:Cookery Classes
ORGANIZER;CN="Blue Lotus Inspirations":MAILTO:bluelotusinspirations@gmail.com
END:VEVENT
BEGIN:VEVENT
DTSTART;TZID=UTC:20180422T100000
DTEND;TZID=UTC:20180422T130000
DTSTAMP:20260420T021959
CREATED:20180316T152615Z
LAST-MODIFIED:20180316T152615Z
UID:893-1524391200-1524402000@bluelotusinspirations.co.uk
SUMMARY:The Art of Thai Cooking Class
DESCRIPTION:
URL:https://bluelotusinspirations.co.uk/event/art-thai-cooking-class-5/
LOCATION:Moscow Road\, London\, W2 4SW\, United Kingdom
CATEGORIES:Cookery Classes
ORGANIZER;CN="Blue Lotus Inspirations":MAILTO:bluelotusinspirations@gmail.com
END:VEVENT
BEGIN:VEVENT
DTSTART;TZID=UTC:20180421T100000
DTEND;TZID=UTC:20180421T120000
DTSTAMP:20260420T021959
CREATED:20180316T151459Z
LAST-MODIFIED:20180316T152109Z
UID:872-1524304800-1524312000@bluelotusinspirations.co.uk
SUMMARY:Duke of Edinburgh - Cooking
DESCRIPTION:
URL:https://bluelotusinspirations.co.uk/event/duke-edinburgh-cooking-6/
LOCATION:Moscow Road\, London\, W2 4SW\, United Kingdom
CATEGORIES:Cookery Classes
ORGANIZER;CN="Blue Lotus Inspirations":MAILTO:bluelotusinspirations@gmail.com
END:VEVENT
BEGIN:VEVENT
DTSTART;TZID=UTC:20180415T100000
DTEND;TZID=UTC:20180415T130000
DTSTAMP:20260420T021959
CREATED:20180316T152544Z
LAST-MODIFIED:20180316T152544Z
UID:891-1523786400-1523797200@bluelotusinspirations.co.uk
SUMMARY:The Art of Thai Cooking Class
DESCRIPTION:
URL:https://bluelotusinspirations.co.uk/event/art-thai-cooking-class-4/
LOCATION:Moscow Road\, London\, W2 4SW\, United Kingdom
CATEGORIES:Cookery Classes
ORGANIZER;CN="Blue Lotus Inspirations":MAILTO:bluelotusinspirations@gmail.com
END:VEVENT
BEGIN:VEVENT
DTSTART;TZID=UTC:20180414T100000
DTEND;TZID=UTC:20180414T120000
DTSTAMP:20260420T021959
CREATED:20180316T151353Z
LAST-MODIFIED:20180316T152121Z
UID:870-1523700000-1523707200@bluelotusinspirations.co.uk
SUMMARY:Duke of Edinburgh - Cooking
DESCRIPTION:
URL:https://bluelotusinspirations.co.uk/event/duke-edinburgh-cooking-5/
LOCATION:Moscow Road\, London\, W2 4SW\, United Kingdom
CATEGORIES:Cookery Classes
ORGANIZER;CN="Blue Lotus Inspirations":MAILTO:bluelotusinspirations@gmail.com
END:VEVENT
BEGIN:VEVENT
DTSTART;TZID=UTC:20180408T100000
DTEND;TZID=UTC:20180408T130000
DTSTAMP:20260420T021959
CREATED:20180316T152506Z
LAST-MODIFIED:20180316T152916Z
UID:889-1523181600-1523192400@bluelotusinspirations.co.uk
SUMMARY:The Art of Thai Cooking Class
DESCRIPTION:
URL:https://bluelotusinspirations.co.uk/event/art-thai-cooking-class-3/
LOCATION:Moscow Road\, London\, W2 4SW\, United Kingdom
CATEGORIES:Cookery Classes
ORGANIZER;CN="Blue Lotus Inspirations":MAILTO:bluelotusinspirations@gmail.com
END:VEVENT
BEGIN:VEVENT
DTSTART;TZID=UTC:20180407T100000
DTEND;TZID=UTC:20180407T120000
DTSTAMP:20260420T021959
CREATED:20180316T151301Z
LAST-MODIFIED:20180316T152132Z
UID:868-1523095200-1523102400@bluelotusinspirations.co.uk
SUMMARY:Duke of Edinburgh - Cooking
DESCRIPTION:
URL:https://bluelotusinspirations.co.uk/event/duke-edinburgh-cooking-4/
LOCATION:Moscow Road\, London\, W2 4SW\, United Kingdom
CATEGORIES:Cookery Classes
ORGANIZER;CN="Blue Lotus Inspirations":MAILTO:bluelotusinspirations@gmail.com
END:VEVENT
BEGIN:VEVENT
DTSTART;TZID=UTC:20180331T100000
DTEND;TZID=UTC:20180331T120000
DTSTAMP:20260420T021959
CREATED:20180316T151214Z
LAST-MODIFIED:20180316T152145Z
UID:866-1522490400-1522497600@bluelotusinspirations.co.uk
SUMMARY:Duke of Edinburgh - Cooking
DESCRIPTION:
URL:https://bluelotusinspirations.co.uk/event/duke-edinburgh-cooking-3/
LOCATION:Moscow Road\, London\, W2 4SW\, United Kingdom
CATEGORIES:Cookery Classes
ORGANIZER;CN="Blue Lotus Inspirations":MAILTO:bluelotusinspirations@gmail.com
END:VEVENT
BEGIN:VEVENT
DTSTART;TZID=UTC:20180325T100000
DTEND;TZID=UTC:20180325T130000
DTSTAMP:20260420T021959
CREATED:20180316T152425Z
LAST-MODIFIED:20180316T152425Z
UID:887-1521972000-1521982800@bluelotusinspirations.co.uk
SUMMARY:The Art of Thai Cooking Class
DESCRIPTION:
URL:https://bluelotusinspirations.co.uk/event/art-thai-cooking-class-2/
LOCATION:Moscow Road\, London\, W2 4SW\, United Kingdom
CATEGORIES:Cookery Classes
ORGANIZER;CN="Blue Lotus Inspirations":MAILTO:bluelotusinspirations@gmail.com
END:VEVENT
BEGIN:VEVENT
DTSTART;TZID=UTC:20180324T100000
DTEND;TZID=UTC:20180324T120000
DTSTAMP:20260420T021959
CREATED:20180316T151035Z
LAST-MODIFIED:20180316T151103Z
UID:863-1521885600-1521892800@bluelotusinspirations.co.uk
SUMMARY:Duke of Edinburgh - Cooking
DESCRIPTION:
URL:https://bluelotusinspirations.co.uk/event/duke-edinburgh-cooking-2/
LOCATION:Moscow Road\, London\, W2 4SW\, United Kingdom
CATEGORIES:Cookery Classes
ORGANIZER;CN="Blue Lotus Inspirations":MAILTO:bluelotusinspirations@gmail.com
END:VEVENT
BEGIN:VEVENT
DTSTART;TZID=UTC:20180318T100000
DTEND;TZID=UTC:20180318T130000
DTSTAMP:20260420T021959
CREATED:20180316T152345Z
LAST-MODIFIED:20180316T152345Z
UID:885-1521367200-1521378000@bluelotusinspirations.co.uk
SUMMARY:The Art of Thai Cooking Class
DESCRIPTION:
URL:https://bluelotusinspirations.co.uk/event/art-thai-cooking-class/
LOCATION:Moscow Road\, London\, W2 4SW\, United Kingdom
CATEGORIES:Cookery Classes
ORGANIZER;CN="Blue Lotus Inspirations":MAILTO:bluelotusinspirations@gmail.com
END:VEVENT
BEGIN:VEVENT
DTSTART;TZID=UTC:20180317T193000
DTEND;TZID=UTC:20180317T223000
DTSTAMP:20260420T021959
CREATED:20180305T144136Z
LAST-MODIFIED:20180305T144136Z
UID:851-1521315000-1521325800@bluelotusinspirations.co.uk
SUMMARY:St. Patrick's Day Indian Feast
DESCRIPTION:Celebrate St. Patrick’s Dinner with a delicious Indian Green themed Feast. \nIndia is a cosmopolitan nation and home for people of many faiths and religions. There approximately 20 million Catholics in India and St. Patrick’s day is widely celebrated. St. Thomas and St. Xavier have their resting places in India and Pilgrims travel from far and wide to visit and pray at these sacred sites. \nThe connections don’t end there\, the last mutiny in the British Army was recorded in the Punjab when the Connaught Rangers supported the Irish rebellion and turned on their superiors. Now\, in more peaceful times when both India and Ireland have their independence Ireland has its first elected leader of Indian descent\, Leo Varadkar. \nIn this Supperclub\, I have taken inspiration from this holiday and come up with scrumptious menu for you to enjoy. \n“Spicy crispy Onion Bhajia” \n“Fish Cakes seasoned with Cinnamon\, Cardamom\, and Black Pepper” \n“Homemade Mint infused Lemonade” \n“Tender Lamb and Spinach Curry slowly simmered in Tomatoes\, Onions\, and a blend of dry Spices” \n“Potato with Fenugreek” \n“Okra with sautéed Onions” \n“Paratha” Warm Indian bread \n“Peas Pulao” Rice with fresh spring peas \n“Indian Fruit Salad with Evaporated Milk and topped with a Mango Puree” \n**The set price is £37 per person. \n**You are most welcome to bring your own wines to enjoy with the meal. We would recommend Colombard\, Riesling (sweet or dry)\, Grüner Veltliner or lightly chilled red Beaujolais. Easier to find Sauvignon blanc\, Chenin Blanc or Viognier would go equally as well.\nBottles of wine will also be available for purchase \n**Please let us know of any known allergies \n**Please email us for venue and payment details. \nbluelotusinspirations@gmail.com\nwww.bluelotusinspirations.co.uk \nWe promise an evening of great food\, fun and convivial conversation!\nYes\nPlease book early to secure your place. \nWe look forward to entertaining you!
URL:https://bluelotusinspirations.co.uk/event/st-patricks-day-indian-feast/
LOCATION:Moscow Road\, London\, W2 4SW\, United Kingdom
ATTACH;FMTTYPE=image/jpeg:https://bluelotusinspirations.co.uk/wp-content/uploads/2018/03/28471939_1792695594087555_4808637042760443270_n-e1520260701744.jpg
END:VEVENT
BEGIN:VEVENT
DTSTART;TZID=UTC:20180317T100000
DTEND;TZID=UTC:20180317T120000
DTSTAMP:20260420T021959
CREATED:20180316T150930Z
LAST-MODIFIED:20180316T150930Z
UID:861-1521280800-1521288000@bluelotusinspirations.co.uk
SUMMARY:Duke of Edinburgh - Cooking
DESCRIPTION:
URL:https://bluelotusinspirations.co.uk/event/duke-edinburgh-cooking/
LOCATION:Moscow Road\, London\, W2 4SW\, United Kingdom
CATEGORIES:Cookery Classes
ORGANIZER;CN="Blue Lotus Inspirations":MAILTO:bluelotusinspirations@gmail.com
END:VEVENT
BEGIN:VEVENT
DTSTART;TZID=UTC:20180310T100000
DTEND;TZID=UTC:20180310T120000
DTSTAMP:20260420T021959
CREATED:20180305T144436Z
LAST-MODIFIED:20180305T144813Z
UID:855-1520676000-1520683200@bluelotusinspirations.co.uk
SUMMARY:Duke of Edinburgh - Cookery Class
DESCRIPTION:Please email for details \nbluelotusinspirations@gmail.com
URL:https://bluelotusinspirations.co.uk/event/duke-edinburgh-cookery-class/
LOCATION:Moscow Road\, London\, W2 4SW\, United Kingdom
CATEGORIES:Cookery Classes
ATTACH;FMTTYPE=image/jpeg:https://bluelotusinspirations.co.uk/wp-content/uploads/2016/12/DofE-logo-gunmetal-full-e1520261361964.jpg
END:VEVENT
BEGIN:VEVENT
DTSTART;TZID=UTC:20180303T093000
DTEND;TZID=UTC:20180303T233000
DTSTAMP:20260420T021959
CREATED:20180228T181654Z
LAST-MODIFIED:20180301T103011Z
UID:827-1520069400-1520119800@bluelotusinspirations.co.uk
SUMMARY:Duke of Edinburgh Cooking Class
DESCRIPTION:
URL:https://bluelotusinspirations.co.uk/event/duke-of-edinburgh-cooking-class/
CATEGORIES:Cookery Classes
ORGANIZER;CN="Blue Lotus Inspirations":MAILTO:bluelotusinspirations@gmail.com
END:VEVENT
BEGIN:VEVENT
DTSTART;TZID=UTC:20180217T193000
DTEND;TZID=UTC:20180217T223000
DTSTAMP:20260420T021959
CREATED:20180123T155550Z
LAST-MODIFIED:20180125T164353Z
UID:816-1518895800-1518906600@bluelotusinspirations.co.uk
SUMMARY:Eat Your Way to Good Fortune
DESCRIPTION:Welcome to Chinese New Year! \nThe Chinese traders began arriving in Thailand in the 17th century introducing noodles\, soy sauce and their cooking methods to Thai culture and cuisine. The foods were quickly adapted\, absorbed and fused into their already sophisticated and exotic range of deliciously aromatic dishes. Nowadays\, you can find many noodle stands among the street food culture of Yaowarat\, the Chinatown of old Bangkok. Here you can taste an overwhelming array of Chinese influenced dishes of seafood\, pork\, spring rolls\, soup\, dumplings and Tofu. \nSadly the whole neighbourhood is now under threat of redevelopment; the aromas and red lanterns\, the teeming night street markets with its total overdose on the senses may soon be no more but you can still experience some of the many amazing dishes here at the Blue Lotus Supperclub. \nFor this supper club will be creating unique Thai dishes that have the symbolism of the Chinese lunar New Year. \nThere are several good luck foods we will include in our specially themed supper\nclub. Spring rolls to bring in wealth\, Fish to bring an increase in prosperity\,\nNoodles for happiness and longevity and fresh orange for good luck. \nStarter \n“Cha Yen”\nThai Iced Tea\n“Kao Krieb”\nPrawn Crackers\n“Porpia”\nMixed vegetable spring roll\n“Kanom Cheen”\nNoodles with Chicken Red Curry and coconut\n“Kao Phat Tuna Krob\, Nam Prik Kapee”\nFried Rice with Crispy Tuna\, Shrimp Paste and Green Apples\n“Phat Phak Kiew Kratium Prik Sod Naman Hoy”\nChinese Greens with Garlic\, Chili and oyster sauce\n“Som Loy Kaew”\nOrange\, Grapefruit in a light syrup \n**The set price is £37 per person. \n**You are most welcome to bring your own wines to enjoy with the meal. We would recommend Colombard\, Riesling (sweet or dry)\, Grüner Veltliner or lightly chilled red Beaujolais. Easier to find Sauvignon blanc\, Chenin Blanc or Viognier would go equally as well.\nBottles of wine will also be available for purchase \n**Please let us know of any known allergies \n**Please email us for venue and payment details. \nbluelotusinspirations@gmail.com\nwww.bluelotusinspirations.co.uk \nWe promise an evening of great food\, fun and convivial converation! \nPlease book early to secure your place. \nWe look forward to entertaining you!
URL:https://bluelotusinspirations.co.uk/event/eat-way-good-fortune/
LOCATION:Moscow Road\, London\, W2 4SW\, United Kingdom
ORGANIZER;CN="Blue Lotus Inspirations":MAILTO:bluelotusinspirations@gmail.com
END:VEVENT
BEGIN:VEVENT
DTSTART;TZID=UTC:20180112T193000
DTEND;TZID=UTC:20180112T223000
DTSTAMP:20260420T021959
CREATED:20180102T144501Z
LAST-MODIFIED:20180102T144501Z
UID:812-1515785400-1515796200@bluelotusinspirations.co.uk
SUMMARY:Spice away the Blues
DESCRIPTION:Escape the cold chill of winter and begin your new year with us. We will serve a selection of Thai dishes that infuse warmth into your body and soul bringing instant relief from the January Blues. Come and relax in the cosy\, comforting ambience of our dining room and enjoy some of the best Thai food you will ever taste. \n“Kwa Tiew Look Chin Naam”\nNoodles in soup garnished with Fish Balls \n“Kai Thod Krob”\nCrispy fried Chicken with a sweet and chilli sauce \n“Gaeng Par”\nPork Jungle Curry \n“Kaw Phad Khai”\nEgg Fried Rice with a medley of vegetables \n“Phat Phak Kiew”\nStir Fried seasonal Greens \n“Fucktong Buat”\nPumpkin in coconut milk \n**The set price is £35 per person. \n**You are most welcome to bring your own wines to enjoy with the meal. We would recommend Colombard\, Riesling (sweet or dry)\, Grüner Veltliner or lightly chilled red Beaujolais. Easier to find Sauvignon blanc\, Chenin Blanc or Viognier would go equally as well.\nBottles of wine will also be available for purchase \n**Please let us know of any known allergies \n**Please email us for venue and payment details. \nbluelotusinspirations@gmail.com\nwww.bluelotusinspirations.co.uk \nWe promise an evening of great food\, fun and convivial converation! \nPlease book early to secure your place. \nWe look forward to entertaining you!
URL:https://bluelotusinspirations.co.uk/event/spice-away-blues/
LOCATION:Moscow Road\, London\, W2 4SW\, United Kingdom
ATTACH;FMTTYPE=image/jpeg:https://bluelotusinspirations.co.uk/wp-content/uploads/2018/01/26025689_1724945437529238_6815869413910332059_o.jpg
ORGANIZER;CN="Blue Lotus Inspirations":MAILTO:bluelotusinspirations@gmail.com
END:VEVENT
BEGIN:VEVENT
DTSTART;TZID=UTC:20171201T193000
DTEND;TZID=UTC:20171201T223000
DTSTAMP:20260420T021959
CREATED:20171121T160843Z
LAST-MODIFIED:20171124T110745Z
UID:803-1512156600-1512167400@bluelotusinspirations.co.uk
SUMMARY:Taste of Bangkok Streets
DESCRIPTION:The orange sun is setting in the darkening sky\, it’s time to eat and you are feeling hungry. In the distance you can see the swirls of steam rising from the street stalls. When you approach you begin to smell the delicious cooking aromas from several streets away. The seductive aromas of coconut milk\, lemon grass and pungent chilli fill your senses. Your belly aches and your mouth waters with the impending anticipation of sated hunger. You turn the corner and your eyes are intoxicated by the myriad of vibrant colours of exotic Thai food\, reds\, yellows\, greens; the choice is almost overwhelming. \nMenu \nPrawn crackers \nAppetisers: \nFried egg salad \nFried Thai fish balls served with a sweet chilli sauce \nSpicy salad with roast pork\, roasted rice\, mint\, lime\, chillies \nChilled\, refreshing rose water drink garnished with rose petals \nMain course: \nThai Spaghetti with chicken red curry and baby aubergines simmered in coconut milk \nA medley of stir fried seasonal vegetables with oyster sauce \nDessert:   \nSweet roti with condensed milk \nFortune cookies \nYou may BYO. The following wine will be available for purchase on the night at £15 \nBaturrica\, Gran Reserva\, Tarragona\, Spain\, 2011. Rich fruity Tempranillo\, Cabernet red aged for five years before release. Lots of Blackberry and dark plum with great depth and a long smooth finish.  \nCelebramos\, Torrontes\, Salta\, Argentina 2014. A unique award winning white wine made with Torrontes and Sauvignon Blanc from the mountainous north of Argentina. Green fruit nose with hints of lime zest and lemon\, beautifully made. \nWith Blue Lotus\, you won’t have to choose. It will be our pleasure to freshly prepare and cook a selection of the finest street food dishes for you in Bayswater. \nThe set price is £38 per person \n**Please let us know of any known allergies \n**Please email us for venue and payment details. \nbluelotusinspirations@gmail.com\nwww.bluelotusinspirations.co.uk \nWe promise an evening of great food\, fun and convivial converation! \nPlease book early to secure your place. \nWe look forward to entertaining you!
URL:https://bluelotusinspirations.co.uk/event/taste-bangkok-streets/
LOCATION:Moscow Road\, London\, W2 4SW\, United Kingdom
ORGANIZER;CN="Blue Lotus Inspirations":MAILTO:bluelotusinspirations@gmail.com
END:VEVENT
BEGIN:VEVENT
DTSTART;TZID=UTC:20171103T190000
DTEND;TZID=UTC:20171103T223000
DTSTAMP:20260420T021959
CREATED:20171017T081325Z
LAST-MODIFIED:20171017T081325Z
UID:789-1509735600-1509748200@bluelotusinspirations.co.uk
SUMMARY:Festival of Lights - Loi Krathong
DESCRIPTION:If you are not in Thailand on the first week of November\, don’t miss the Loi Krathong – the festival of lights! EatofftheMenu teamed up with Urmi Shah from Blue Lotus Inspirations to bring you a themed one time pop up menu. Let yourself be surprised and experience all the emotions and magic of the Thai festival of lights. Every single dish has a deeper meaning and connection to Thai culture and will make you part of Loi Krathong celebration. \nThe Secret Menu:   \n\nlightness and anticipation *starter\npreparation on the day of festival *starter\ntime for a new beginning *light drink\na token for the gods of the river *main\nare you ready for lights in the sky *main\nmake a wish *dessert\nand it will come true *small dessert\n\nVegetarian friendly of course! Just let us know when buying the tickets (72h before the events) \nWhere: 37 Burnham Court\, Moscow Road\, London W2 4SW \nVisit the ticket website for more info and some hints about the menu \nClick here
URL:https://bluelotusinspirations.co.uk/event/festival-lights-loi-krathong/
LOCATION:Moscow Road\, London\, W2 4SW\, United Kingdom
ORGANIZER;CN="Blue Lotus Inspirations":MAILTO:bluelotusinspirations@gmail.com
END:VEVENT
BEGIN:VEVENT
DTSTART;TZID=UTC:20171014T193000
DTEND;TZID=UTC:20171014T223000
DTSTAMP:20260420T021959
CREATED:20171010T122144Z
LAST-MODIFIED:20171010T122144Z
UID:781-1508009400-1508020200@bluelotusinspirations.co.uk
SUMMARY:Autumn Colours: Thai Supperclub
DESCRIPTION:For this Supper Club I have used the colours of Autumn as an inspiration. \nI use textures\, flavours and colours to create an evening meal that is both aesthetically beautiful as well as being sumptuously delicious. The use of Asian spice is essential to warm our bones from the cooler North winds. \nEach dish will be presented by the chef\nMenu (subject to availability of fresh ingredients) \n“Naam Gularb Yen”\nRefreshing chilled Rose Syrup Drink garnished with Limes and Lemon \n“Tom Yum Kai”\nA warming spicy Chicken soup with Lemon Grass and lots of Lime juice \n“Yum Kai Dao”\nCrispy Thai shredded Fried Egg blended with Tomato\, Red Onion and a garnish of fresh chopped Coriander \n“Gaeng Leung Moo”\nYellow Curry with Sliced Pork and baby Aubergines dressed with crispy fried basil leaves. \n“Tao Hoo Prik Thai Dum”\nCrispy Fried Tofu with Black and Green Peppercorn Sauce \nPhad Pak Kiew\nChinese Greens sautéed with Oyster Sauce\, Chinese Wine and a touch of Garlic \n“Khaw Hom Mali”\nSteamed Jasmine Rice \n“Fucktong Buat Chee”\nSweet orange pumpkin simmered in Coconut Milk \n**The set price is £35 per person. \n**You are most welcome to bring your own wines to enjoy with the meal. We would recommend Colombard\, Riesling (sweet or dry)\, Grüner Veltliner or lightly chilled red Beaujolais. Easier to find Sauvignon blanc\, Chenin Blanc or Viognier would go equally as well. \n**Please let us know of any known allergies \n**Please email us for venue and payment details. \nbluelotusinspirations@gmail.com\nwww.bluelotusinspirations.co.uk \nWe promise an evening of great food\, fun and convivial converation! \nPlease book early to secure your place. \nWe look forward to entertaining you!
URL:https://bluelotusinspirations.co.uk/event/autumn-colours-thai-supperclub/
LOCATION:Moscow Road\, London\, W2 4SW\, United Kingdom
ATTACH;FMTTYPE=image/jpeg:https://bluelotusinspirations.co.uk/wp-content/uploads/2017/10/Autumn-Colours.jpg
ORGANIZER;CN="Blue Lotus Inspirations":MAILTO:bluelotusinspirations@gmail.com
END:VEVENT
BEGIN:VEVENT
DTSTART;TZID=UTC:20170928T193000
DTEND;TZID=UTC:20170928T223000
DTSTAMP:20260420T021959
CREATED:20170925T135320Z
LAST-MODIFIED:20170925T135320Z
UID:775-1506627000-1506637800@bluelotusinspirations.co.uk
SUMMARY:West Coast Wonders: Indian Supper Club
DESCRIPTION:In this Supper Club you will have the opportunity to enjoy west coast Indian cooking. \nOur menu planning along with balance of taste\, texture and colour is inspired by the aromatics of coastal cooking. \nMenu (subject to availability of fresh ingredients) \nChilled Sweet Lassi drink with Cardamom and Cloves \n**Chilled Glass of White Wine served with your meal** \n“Chana Chaat”\, Chickpeas and Pomegranate spicy salad\n\n“Tarka Dal”\, Slowly simmered Lentils garnished with a combination of Fried Garlic and Cloves \n“Machi Masala”\, Fried Goan Fish with marinated with Tumeric\, Chillies and Mango Powder \n“Kheema Bhinda Batata “\, Minced Lamb with Okra and Potato flavoured with spices \n“Tomatar Sev”\, Tomato with Chickpea flour noodles sauteed with Cumin and Coriander seeds \n“Jardalu ana Kissmiss Pulao”\, Rice with Apricots and Raisins” \n“Paratha”\, flattened Indian bread \nTapioca pudding with Roasted Apricots \n**The set price is £40 per person. \n**You are most welcome to bring your own wines to enjoy with the meal. We would recommend Viognier\, Vouvray\, Albarino or lightly chilled red Gamay or Pinot Noir\n**Please let us know of any known allergies \n**Please email us for venue and payment details. \nbluelotusinspirations@gmail.com\nwww.bluelotusinspirations.co.uk \nWe look forward to entertaining you! An evening of great food and fun!\n\n\n\nDrinks\nDinner\nFood festival
URL:https://bluelotusinspirations.co.uk/event/west-coast-wonders-indian-supper-club/
LOCATION:Supper Club\, Moscow Road\, London\, W2 4SW\, United Kingdom
ORGANIZER;CN="Blue Lotus Inspirations":MAILTO:bluelotusinspirations@gmail.com
END:VEVENT
BEGIN:VEVENT
DTSTART;TZID=UTC:20170906T193000
DTEND;TZID=UTC:20170906T220000
DTSTAMP:20260420T021959
CREATED:20170831T073746Z
LAST-MODIFIED:20170831T073746Z
UID:768-1504726200-1504735200@bluelotusinspirations.co.uk
SUMMARY:Mid Week Special Thai Supper Club
DESCRIPTION:For this Supper Club I have used the Summer Sunshine as an inspiration\nI use textures\, flavours and colours to create an evening meal that is both aesthetically beautiful as well as being delicious.\nEach dish will be presented by the chef \nMenu (subject to availability of fresh ingredients) \n****Chilled Glass of White Wine****\nMcGuigan\, South Australia Chardonnay 2016 \n“Naam Gularb Yen”\nChilled Rose Syrup Drink garnished with Limes and Lemon \n“Yum Woonsen Apple Kiew”\nSalad of Green Bean Vermechelli with Squid\, Green Apples\, Lime\, and Mint \n“Gaeng Jet Look Chin”\nClear Chicken broth with Mushrooms and Fish balls \n“Khai Jiew”\nThai Style Omelette with Onions\, Corriander and Chillies \n“Gaeng Massaman”\nMassaman Curry with Chicken\, Potatoes\, and Peanuts \n“Pla Tod Kratium Prik Thai”\nCrispy Fried Fish with Garlic\, and Black Pepper \nPhad Pak Kiew\nChinese Greens sautéed with Oyster Sauce\, Chinese Wine and a touch of Garlic \n“Khaw Hom Mali”\nSteamed Jasmine Rice \n“Fucktong Buat Chee”\nPumpkin simmered in Coconut Milk \n**The set price is £40 per person. \n**You are most welcome to bring your own wines to enjoy with the meal. We would recommend Riesling (sweet or dry)\, Grüner Veltliner or lightly chilled red Gamay. Easier to find Sauvignon blanc\, Chenin Blanc and Viognier would go equally as well. \n**Please let us know of any known allergies \n**Please email us for venue and payment details. \nbluelotusinspirations@gmail.com\nwww.bluelotusinspirations.co.uk \nWe look forward to entertaining you! An evening of great food and fun!
URL:https://bluelotusinspirations.co.uk/event/mid-week-special-thai-supper-club/
ATTACH;FMTTYPE=image/jpeg:https://bluelotusinspirations.co.uk/wp-content/uploads/2017/08/21083709_1606539182703198_2550013583893283089_o-e1504165028993.jpg
END:VEVENT
BEGIN:VEVENT
DTSTART;TZID=UTC:20170826T193000
DTEND;TZID=UTC:20170826T220000
DTSTAMP:20260420T021959
CREATED:20170809T112515Z
LAST-MODIFIED:20170809T114130Z
UID:723-1503775800-1503784800@bluelotusinspirations.co.uk
SUMMARY:Summer in the City: Indian Supper Club
DESCRIPTION:In this Supper Club you will have the opportunity to enjoy traditional Indian cooking.\nOur menu planning along with balance of taste\, texture and colour is inspired by the flavours of summer.\nMenu (subject to availability of fresh ingredients) \nChilled Lassi drink with Cardamom and Cloves\n**Chilled Glass of White Wine served with your meal** \n“Fruit chaat” spicy fruit salad\n“Shakela Sakaria” grilled sweet potato with coriander and rock salt\n“Chole” braised chick peas with coriander and crispy onions\n“Bombay Chicken Curry”\, Cafe style Chicken\n“Okra Bhinda nu sak” okra tempered with spices\n“Fulavar Saak”\, Cauliflower sauted with spices\n“Jardalu ana kissmiss Pulao”\, Rice with Apricots and Raisins”\n“Paratha”\, flattened Indian bread\nRoasted Pear with infused jaggery and cinnamon\n**The set price is £40 per person. \n**You are most welcome to bring your own wines to enjoy with the meal. We would recommend Riesling (sweet or dry)\, Grüner Veltliner or lightly chilled red Gamay. Easier to find Sauvignon blanc\, Chenin Blanc and Viognier would go equally as well. \n**Please let us know of any known allergies \n**Please email us for venue and payment details. \nWe look forward to entertaining you! An evening of great food and fun!
URL:https://bluelotusinspirations.co.uk/event/summer-city-indian-supper-club/
ATTACH;FMTTYPE=image/jpeg:https://bluelotusinspirations.co.uk/wp-content/uploads/2017/08/20286948_1573170486040068_3216497026846129041_o.jpg
ORGANIZER;CN="Blue Lotus Inspirations":MAILTO:bluelotusinspirations@gmail.com
END:VEVENT
END:VCALENDAR